BEGIN:VCALENDAR
VERSION:2.0
PRODID:-//TMBCI Public Health Department - ECPv6.15.20//NONSGML v1.0//EN
CALSCALE:GREGORIAN
METHOD:PUBLISH
X-ORIGINAL-URL:https://www.tmbcimasterhealth.com
X-WR-CALDESC:Events for TMBCI Public Health Department
REFRESH-INTERVAL;VALUE=DURATION:PT1H
X-Robots-Tag:noindex
X-PUBLISHED-TTL:PT1H
BEGIN:VTIMEZONE
TZID:America/North_Dakota/Beulah
BEGIN:DAYLIGHT
TZOFFSETFROM:-0600
TZOFFSETTO:-0500
TZNAME:CDT
DTSTART:20240310T080000
END:DAYLIGHT
BEGIN:STANDARD
TZOFFSETFROM:-0500
TZOFFSETTO:-0600
TZNAME:CST
DTSTART:20241103T070000
END:STANDARD
BEGIN:DAYLIGHT
TZOFFSETFROM:-0600
TZOFFSETTO:-0500
TZNAME:CDT
DTSTART:20250309T080000
END:DAYLIGHT
BEGIN:STANDARD
TZOFFSETFROM:-0500
TZOFFSETTO:-0600
TZNAME:CST
DTSTART:20251102T070000
END:STANDARD
BEGIN:DAYLIGHT
TZOFFSETFROM:-0600
TZOFFSETTO:-0500
TZNAME:CDT
DTSTART:20260308T080000
END:DAYLIGHT
BEGIN:STANDARD
TZOFFSETFROM:-0500
TZOFFSETTO:-0600
TZNAME:CST
DTSTART:20261101T070000
END:STANDARD
END:VTIMEZONE
BEGIN:VEVENT
DTSTART;TZID=America/North_Dakota/Beulah:20250425T200000
DTEND;TZID=America/North_Dakota/Beulah:20250425T230000
DTSTAMP:20260424T105214
CREATED:20250424T204919Z
LAST-MODIFIED:20250424T204919Z
UID:10000134-1745611200-1745622000@www.tmbcimasterhealth.com
SUMMARY:Turtle Island - Adult Night
DESCRIPTION:Elevate Your Experience! Come ready to unwind and tap into your inner strength. ID required at the door. Enjoy a rejuvenating poolside evening with us. \nFriday\, April 25th\, 8PM-11PM. Hope to see you there!
URL:https://www.tmbcimasterhealth.com/event/turtle-island-adult-night/
LOCATION:Skydancer Casino\, 3965 Sky Dancer Way NE\, Belcourt\, ND\, 58316\, United States
ATTACH;FMTTYPE=image/jpeg:https://www.tmbcimasterhealth.com/wp-content/uploads/2025/04/TM-Turtle-Night.jpg
END:VEVENT
END:VCALENDAR